BEGIN:VCALENDAR
VERSION:2.0
PRODID:-//River Arts District Artists - ECPv6.15.20//NONSGML v1.0//EN
CALSCALE:GREGORIAN
METHOD:PUBLISH
X-WR-CALNAME:River Arts District Artists
X-ORIGINAL-URL:https://www.riverartsdistrict.com
X-WR-CALDESC:Events for River Arts District Artists
REFRESH-INTERVAL;VALUE=DURATION:PT1H
X-Robots-Tag:noindex
X-PUBLISHED-TTL:PT1H
BEGIN:VTIMEZONE
TZID:America/New_York
BEGIN:DAYLIGHT
TZOFFSETFROM:-0500
TZOFFSETTO:-0400
TZNAME:EDT
DTSTART:20250309T070000
END:DAYLIGHT
BEGIN:STANDARD
TZOFFSETFROM:-0400
TZOFFSETTO:-0500
TZNAME:EST
DTSTART:20251102T060000
END:STANDARD
BEGIN:DAYLIGHT
TZOFFSETFROM:-0500
TZOFFSETTO:-0400
TZNAME:EDT
DTSTART:20260308T070000
END:DAYLIGHT
BEGIN:STANDARD
TZOFFSETFROM:-0400
TZOFFSETTO:-0500
TZNAME:EST
DTSTART:20261101T060000
END:STANDARD
BEGIN:DAYLIGHT
TZOFFSETFROM:-0500
TZOFFSETTO:-0400
TZNAME:EDT
DTSTART:20270314T070000
END:DAYLIGHT
BEGIN:STANDARD
TZOFFSETFROM:-0400
TZOFFSETTO:-0500
TZNAME:EST
DTSTART:20271107T060000
END:STANDARD
END:VTIMEZONE
BEGIN:VEVENT
DTSTART;TZID=America/New_York:20260420T100000
DTEND;TZID=America/New_York:20260420T130000
DTSTAMP:20260420T054807
CREATED:20240521T171806Z
LAST-MODIFIED:20240521T171806Z
UID:10028039-1776679200-1776690000@www.riverartsdistrict.com
SUMMARY:Marvelous Monday Open Studio with Instructor!
DESCRIPTION:PREREGISTRATION REQUIRED AT https://310art.com/marvelousmondays/marvelousmondays-2024\nOur popular open studio class! Bring your tools and projects – we have easels\, water containers\, and paper towels. Dress for the studio! \nYour mentors are Heather C \, Lorelle\, Susan\, and Linda.  work under the expert guidance of four of our wonderful teachers. With a combined expertise in sketching\, drawing\, pastel\, oils\, watercolor and more\, our teachers will be available to guide you through your creative process – and help solve any problems! \nClass takes place every Monday\, from 10AM until 1PM\, for a $30 fee. You will also have the option to stay (without our teachers present) in our classroom until 4pm to continue work on your projects.
URL:https://www.riverartsdistrict.com/event/marvelous-monday-open-studio-with-instructor-2023-01-30-2023-07-03-2/2026-04-20/
LOCATION:310 ART at Re Imagine Studio\, 15 Spivey Lake Drive\, Fairview\, NC\, 28730\, United States
CATEGORIES:Classes,Events
ATTACH;FMTTYPE=image/jpeg:https://www.riverartsdistrict.com/wp-content/uploads/2022/12/Marvelous-Monday-Opened-Studio.jpg
ORGANIZER;CN="310 ART":MAILTO:gallery@310art.com
GEO:35.577363;-82.567622
X-APPLE-STRUCTURED-LOCATION;VALUE=URI;X-ADDRESS=310 ART at Re Imagine Studio 15 Spivey Lake Drive Fairview NC 28730 United States;X-APPLE-RADIUS=500;X-TITLE=15 Spivey Lake Drive:geo:-82.567622,35.577363
END:VEVENT
BEGIN:VEVENT
DTSTART;TZID=America/New_York:20260420T110000
DTEND;TZID=America/New_York:20260504T040000
DTSTAMP:20260420T054807
CREATED:20260220T172219Z
LAST-MODIFIED:20260403T152009Z
UID:10035823-1776682800-1777867200@www.riverartsdistrict.com
SUMMARY:When Light Returns
DESCRIPTION:Mark Bettis Gallery is pleased to announce a new group exhibition\, When Light Returns\, starting April 11th through April 25th 2026. The exhibition draws inspiration from the arrival of spring and the quiet\, powerful renewal that follows winter’s slumber. \nWhen Light Returns explores themes of rebirth\, growth\, and awakening. As the days lengthen and warmth returns\, flowers emerge from thawed ground\, animals stir from rest\, and insects hatch—each beginning again in cycles both delicate and resilient. The works in this exhibition reflect these moments of transformation\, capturing the beauty of emergence and the promise of new beginnings. Through a variety of styles and mediums\, participating artists interpret spring not only as a season\, but as a metaphor for hope\, restoration\, and the persistence of life. \n​The exhibition will be shown at the Mark Bettis Gallery’s River Arts District location from April 11th through April 25th\, 2026 during normal business hours. There will be no opening night. \nMark Bettis Gallery hours are Monday – Thursday 10am to 4pm\, Friday and Saturday 10am to 5pm\, Sundays 11pm-3pm. The gallery is located in the River Arts District at 123 Roberts Street\, Asheville NC 28801. The gallery features unique and distinctive works of art in a variety of mediums including contemporary paintings\, glass\, sculpture\, and mixed media.\nFor more information about the exhibition and the gallery please visit markbettisgallery.com or contact the gallery at 828-660-4968 or markdbettis@gmail.com
URL:https://www.riverartsdistrict.com/event/when-light-returns/2026-04-20/
LOCATION:Mark Bettis Gallery\, 123 Roberts Street\, Asheville\, 28801
CATEGORIES:Events
ATTACH;FMTTYPE=image/jpeg:https://www.riverartsdistrict.com/wp-content/uploads/2026/02/A-dream-is-not-reality-but-whose-to-say-which-is-which.jpeg
ORGANIZER;CN="Mark Bettis":MAILTO:markdbettis@gmail.com
GEO:35.586335;-82.5664708
X-APPLE-STRUCTURED-LOCATION;VALUE=URI;X-ADDRESS=Mark Bettis Gallery 123 Roberts Street Asheville 28801;X-APPLE-RADIUS=500;X-TITLE=123 Roberts Street:geo:-82.5664708,35.586335
END:VEVENT
END:VCALENDAR