BEGIN:VCALENDAR
VERSION:2.0
PRODID:-//River Arts District Artists - ECPv6.15.20//NONSGML v1.0//EN
CALSCALE:GREGORIAN
METHOD:PUBLISH
X-ORIGINAL-URL:https://www.riverartsdistrict.com
X-WR-CALDESC:Events for River Arts District Artists
REFRESH-INTERVAL;VALUE=DURATION:PT1H
X-Robots-Tag:noindex
X-PUBLISHED-TTL:PT1H
BEGIN:VTIMEZONE
TZID:America/New_York
BEGIN:DAYLIGHT
TZOFFSETFROM:-0500
TZOFFSETTO:-0400
TZNAME:EDT
DTSTART:20230312T070000
END:DAYLIGHT
BEGIN:STANDARD
TZOFFSETFROM:-0400
TZOFFSETTO:-0500
TZNAME:EST
DTSTART:20231105T060000
END:STANDARD
BEGIN:DAYLIGHT
TZOFFSETFROM:-0500
TZOFFSETTO:-0400
TZNAME:EDT
DTSTART:20240310T070000
END:DAYLIGHT
BEGIN:STANDARD
TZOFFSETFROM:-0400
TZOFFSETTO:-0500
TZNAME:EST
DTSTART:20241103T060000
END:STANDARD
BEGIN:DAYLIGHT
TZOFFSETFROM:-0500
TZOFFSETTO:-0400
TZNAME:EDT
DTSTART:20250309T070000
END:DAYLIGHT
BEGIN:STANDARD
TZOFFSETFROM:-0400
TZOFFSETTO:-0500
TZNAME:EST
DTSTART:20251102T060000
END:STANDARD
END:VTIMEZONE
BEGIN:VEVENT
DTSTART;TZID=America/New_York:20240917T090000
DTEND;TZID=America/New_York:20240919T153000
DTSTAMP:20260421T050822
CREATED:20240731T152023Z
LAST-MODIFIED:20240731T152023Z
UID:10030061-1726563600-1726759800@www.riverartsdistrict.com
SUMMARY:BOLD STROKES IN WATERCOLOR with Nadine Charlsen
DESCRIPTION:Tuesday\, September 17th\, 10:00 AM to 3:30 PM; \nWednesday\, September 18th\, 10:00 AM to 3:30 PM); and \nThursday\, September 19th\, 9:00 AM to 12:00 PM\n$355 – All materials included \nTake the plunge into bold watercolor! Explore an individual freestyle approach to contemporary watercolor techniques\, employing emotionally bold and dramatic light. \nIn this two and a half day class\, Nadine will guide you in experimenting with scrubbing\, dripping\, splashing and glazing in a loose and textural manner. Learn to use non-traditional tools and brushes while painting vertically on an easel. Redefine what watercolor means to you – this class has no hard and fast rules that will inhibit your vision and your style! \nFor beginners through experienced artists\, Nadine will cultivate a sharing atmosphere in which you can work on any subject you are interested in. Don’t miss your chance to bend the rules of watercolor and experiment with new\, bold strokes!
URL:https://www.riverartsdistrict.com/event/bold-strokes-in-watercolor-with-nadine-charlsen/
LOCATION:310 ART at Re Imagine Studio\, 15 Spivey Lake Drive\, Fairview\, NC\, 28730\, United States
CATEGORIES:Classes
ATTACH;FMTTYPE=image/jpeg:https://www.riverartsdistrict.com/wp-content/uploads/2024/07/303-Tanker-Train.jpg
ORGANIZER;CN="310 ART":MAILTO:gallery@310art.com
GEO:35.577363;-82.567622
X-APPLE-STRUCTURED-LOCATION;VALUE=URI;X-ADDRESS=310 ART at Re Imagine Studio 15 Spivey Lake Drive Fairview NC 28730 United States;X-APPLE-RADIUS=500;X-TITLE=15 Spivey Lake Drive:geo:-82.567622,35.577363
END:VEVENT
END:VCALENDAR