BEGIN:VCALENDAR
VERSION:2.0
PRODID:-//River Arts District Artists - ECPv6.15.20//NONSGML v1.0//EN
CALSCALE:GREGORIAN
METHOD:PUBLISH
X-WR-CALNAME:River Arts District Artists
X-ORIGINAL-URL:https://www.riverartsdistrict.com
X-WR-CALDESC:Events for River Arts District Artists
REFRESH-INTERVAL;VALUE=DURATION:PT1H
X-Robots-Tag:noindex
X-PUBLISHED-TTL:PT1H
BEGIN:VTIMEZONE
TZID:America/New_York
BEGIN:DAYLIGHT
TZOFFSETFROM:-0500
TZOFFSETTO:-0400
TZNAME:EDT
DTSTART:20250309T070000
END:DAYLIGHT
BEGIN:STANDARD
TZOFFSETFROM:-0400
TZOFFSETTO:-0500
TZNAME:EST
DTSTART:20251102T060000
END:STANDARD
BEGIN:DAYLIGHT
TZOFFSETFROM:-0500
TZOFFSETTO:-0400
TZNAME:EDT
DTSTART:20260308T070000
END:DAYLIGHT
BEGIN:STANDARD
TZOFFSETFROM:-0400
TZOFFSETTO:-0500
TZNAME:EST
DTSTART:20261101T060000
END:STANDARD
BEGIN:DAYLIGHT
TZOFFSETFROM:-0500
TZOFFSETTO:-0400
TZNAME:EDT
DTSTART:20270314T070000
END:DAYLIGHT
BEGIN:STANDARD
TZOFFSETFROM:-0400
TZOFFSETTO:-0500
TZNAME:EST
DTSTART:20271107T060000
END:STANDARD
END:VTIMEZONE
BEGIN:VEVENT
DTSTART;TZID=America/New_York:20260412T173000
DTEND;TZID=America/New_York:20260412T190000
DTSTAMP:20260419T132058
CREATED:20260116T204431Z
LAST-MODIFIED:20260306T160948Z
UID:10035374-1776015000-1776020400@www.riverartsdistrict.com
SUMMARY:Creativity Journaling Sessions
DESCRIPTION:Explore the use of journaling and meditation in accessing deeper levels of creative imagination and inspiration. The root of creativity lies in the murky waters of deep imagination. Through journaling and meditation\, we explore the shy song within—the quiet impulse that wants to emerge in our creative work..
URL:https://www.riverartsdistrict.com/event/creativity-journaling-sessions/2026-04-12/
LOCATION:1 Roberts Street\, Suite 201\, 1 Roberts Street\, Suite 201\, Asheville\, NC\, 28801\, United States
CATEGORIES:Events
ATTACH;FMTTYPE=image/jpeg:https://www.riverartsdistrict.com/wp-content/uploads/2026/01/Nurturing-Front-Cover.jpg
END:VEVENT
END:VCALENDAR