BEGIN:VCALENDAR
VERSION:2.0
PRODID:-//River Arts District Artists - ECPv6.15.20//NONSGML v1.0//EN
CALSCALE:GREGORIAN
METHOD:PUBLISH
X-ORIGINAL-URL:https://www.riverartsdistrict.com
X-WR-CALDESC:Events for River Arts District Artists
REFRESH-INTERVAL;VALUE=DURATION:PT1H
X-Robots-Tag:noindex
X-PUBLISHED-TTL:PT1H
BEGIN:VTIMEZONE
TZID:America/New_York
BEGIN:DAYLIGHT
TZOFFSETFROM:-0500
TZOFFSETTO:-0400
TZNAME:EDT
DTSTART:20250309T070000
END:DAYLIGHT
BEGIN:STANDARD
TZOFFSETFROM:-0400
TZOFFSETTO:-0500
TZNAME:EST
DTSTART:20251102T060000
END:STANDARD
BEGIN:DAYLIGHT
TZOFFSETFROM:-0500
TZOFFSETTO:-0400
TZNAME:EDT
DTSTART:20260308T070000
END:DAYLIGHT
BEGIN:STANDARD
TZOFFSETFROM:-0400
TZOFFSETTO:-0500
TZNAME:EST
DTSTART:20261101T060000
END:STANDARD
BEGIN:DAYLIGHT
TZOFFSETFROM:-0500
TZOFFSETTO:-0400
TZNAME:EDT
DTSTART:20270314T070000
END:DAYLIGHT
BEGIN:STANDARD
TZOFFSETFROM:-0400
TZOFFSETTO:-0500
TZNAME:EST
DTSTART:20271107T060000
END:STANDARD
END:VTIMEZONE
BEGIN:VEVENT
DTSTART;TZID=America/New_York:20260613T120000
DTEND;TZID=America/New_York:20260613T180000
DTSTAMP:20260419T131749
CREATED:20260409T171438Z
LAST-MODIFIED:20260409T171438Z
UID:10035830-1781352000-1781373600@www.riverartsdistrict.com
SUMMARY:Art Exhibition: Amidst the Wild Ones
DESCRIPTION:Amidst the Wild Ones is a showcase of new works including oil paintings\, pencil drawings\, and photographs created by Alithea Williams. They are all inspired by her trip to Denmark where she had the privilege to photograph both wild Exmoor ponies and Konik Stallions on the Danish Moors. \nThe show will start at noon and go until 6:00 PM. Light Danish-inspired refreshments will be provided. You will also have the opportunity to talk to the artist directly about what inspired this collection and her experiences in Denmark.
URL:https://www.riverartsdistrict.com/event/art-exhibition-amidst-the-wild-ones/
LOCATION:Riverside Studios\, 174 W Haywood Street\, Asheville\, 28801
CATEGORIES:Events
ATTACH;FMTTYPE=image/png:https://www.riverartsdistrict.com/wp-content/uploads/2026/04/Insta-Show-Flyer.png
GEO:35.5897512;-82.5702712
X-APPLE-STRUCTURED-LOCATION;VALUE=URI;X-ADDRESS=Riverside Studios 174 W Haywood Street Asheville 28801;X-APPLE-RADIUS=500;X-TITLE=174 W Haywood Street:geo:-82.5702712,35.5897512
END:VEVENT
END:VCALENDAR