BEGIN:VCALENDAR
VERSION:2.0
PRODID:-//River Arts District Artists - ECPv6.15.20//NONSGML v1.0//EN
CALSCALE:GREGORIAN
METHOD:PUBLISH
X-ORIGINAL-URL:https://www.riverartsdistrict.com
X-WR-CALDESC:Events for River Arts District Artists
REFRESH-INTERVAL;VALUE=DURATION:PT1H
X-Robots-Tag:noindex
X-PUBLISHED-TTL:PT1H
BEGIN:VTIMEZONE
TZID:America/New_York
BEGIN:DAYLIGHT
TZOFFSETFROM:-0500
TZOFFSETTO:-0400
TZNAME:EDT
DTSTART:20240310T070000
END:DAYLIGHT
BEGIN:STANDARD
TZOFFSETFROM:-0400
TZOFFSETTO:-0500
TZNAME:EST
DTSTART:20241103T060000
END:STANDARD
BEGIN:DAYLIGHT
TZOFFSETFROM:-0500
TZOFFSETTO:-0400
TZNAME:EDT
DTSTART:20250309T070000
END:DAYLIGHT
BEGIN:STANDARD
TZOFFSETFROM:-0400
TZOFFSETTO:-0500
TZNAME:EST
DTSTART:20251102T060000
END:STANDARD
BEGIN:DAYLIGHT
TZOFFSETFROM:-0500
TZOFFSETTO:-0400
TZNAME:EDT
DTSTART:20260308T070000
END:DAYLIGHT
BEGIN:STANDARD
TZOFFSETFROM:-0400
TZOFFSETTO:-0500
TZNAME:EST
DTSTART:20261101T060000
END:STANDARD
END:VTIMEZONE
BEGIN:VEVENT
DTSTART;TZID=America/New_York:20250510T100000
DTEND;TZID=America/New_York:20250510T170000
DTSTAMP:20260422T072357
CREATED:20250328T151912Z
LAST-MODIFIED:20250328T152950Z
UID:10031962-1746871200-1746896400@www.riverartsdistrict.com
SUMMARY:RAD Renaissance
DESCRIPTION:RAD Renaissance: A Celebration of Art\, Resilience & Renewal in Asheville’s River Arts District\n\n\nThe River Arts District (RAD) is rising! On Saturday\, May 10\, 10AM – 5PM\, Asheville’s iconic arts district will host RAD Renaissance\, a powerful celebration of art\, resilience\, and renewal. As spring breathes new life into the city\, this event will showcase the strength of the RAD community and mark a major milestone in its ongoing recovery from Hurricane Helene’s historic flooding. \n\n\nMore than just an art festival\, RAD Renaissance is a call to action—inviting locals and visitors alike to support the artists\, galleries\, and studios that define this creative district. Attendees will experience:\n* Opportunities to meet and support working artists\n* Live painting\, artist demonstrations\, and interactive art classes\n* Music and storytelling performances across multiple locations\n* Pop-up food trucks + local restaurants\, cafés\, breweries\, and bars\n* Community flower stations to help restore the beauty of the RAD\n\n\nThe Launch of the RAD Art Market\nThis event also marks the debut of the RAD Art Market\, a weekly marketplace at Pine Gate Renewables’ parking lot\, dedicated to giving displaced artists a vital platform to showcase and sell their work. Many of these artists lost everything in the flood and are now unveiling their first new pieces since the storm\, making this an important opportunity for the community to support their comeback\, celebrate their resilience\, and witness the rebirth of creativity in RAD.\n\n\nDate: Saturday\, May 10\, 2025\nTime: 10AM – 5PM\nLocation: Upper River Arts District (Roberts St\, Artful Way\, Clingman Ave\, and Depot St)
URL:https://www.riverartsdistrict.com/event/rad-renaissance/
LOCATION:Upper RAD: Roberts\, Artful Way\, Clingman\, and Depot\, 344 Depot St\, Asheville\, NC\, 28801\, United States
CATEGORIES:Events,Second Saturday Art Strolls
ATTACH;FMTTYPE=image/jpeg:https://www.riverartsdistrict.com/wp-content/uploads/2025/03/rad-ren.jpg
ORGANIZER;CN="River Arts District Artists":MAILTO:info@riverartsdistrict.com
END:VEVENT
END:VCALENDAR